BEGIN:VCALENDAR
VERSION:2.0
PRODID:-//Fotokreis &#039;88 - ECPv6.15.18//NONSGML v1.0//EN
CALSCALE:GREGORIAN
METHOD:PUBLISH
X-ORIGINAL-URL:https://www.fotokreis88.de
X-WR-CALDESC:Veranstaltungen für Fotokreis &#039;88
REFRESH-INTERVAL;VALUE=DURATION:PT1H
X-Robots-Tag:noindex
X-PUBLISHED-TTL:PT1H
BEGIN:VTIMEZONE
TZID:Europe/Paris
BEGIN:DAYLIGHT
TZOFFSETFROM:+0100
TZOFFSETTO:+0200
TZNAME:CEST
DTSTART:20240331T010000
END:DAYLIGHT
BEGIN:STANDARD
TZOFFSETFROM:+0200
TZOFFSETTO:+0100
TZNAME:CET
DTSTART:20241027T010000
END:STANDARD
BEGIN:DAYLIGHT
TZOFFSETFROM:+0100
TZOFFSETTO:+0200
TZNAME:CEST
DTSTART:20250330T010000
END:DAYLIGHT
BEGIN:STANDARD
TZOFFSETFROM:+0200
TZOFFSETTO:+0100
TZNAME:CET
DTSTART:20251026T010000
END:STANDARD
BEGIN:DAYLIGHT
TZOFFSETFROM:+0100
TZOFFSETTO:+0200
TZNAME:CEST
DTSTART:20260329T010000
END:DAYLIGHT
BEGIN:STANDARD
TZOFFSETFROM:+0200
TZOFFSETTO:+0100
TZNAME:CET
DTSTART:20261025T010000
END:STANDARD
END:VTIMEZONE
BEGIN:VEVENT
DTSTART;TZID=Europe/Paris:20250606T193000
DTEND;TZID=Europe/Paris:20250606T220000
DTSTAMP:20260420T191022
CREATED:20241207T143245Z
LAST-MODIFIED:20241207T143734Z
UID:18556-1749238200-1749247200@www.fotokreis88.de
SUMMARY:Fotokreis-Treffen
DESCRIPTION:
URL:https://www.fotokreis88.de/event/fotokreis-treffen-16/
CATEGORIES:Fotokreis-Treffen
END:VEVENT
BEGIN:VEVENT
DTSTART;VALUE=DATE:20250614
DTEND;VALUE=DATE:20250615
DTSTAMP:20260420T191022
CREATED:20250301T160006Z
LAST-MODIFIED:20250315T153856Z
UID:18705-1749859200-1749945599@www.fotokreis88.de
SUMMARY:Fotoexkursion Hamburg
DESCRIPTION:
URL:https://www.fotokreis88.de/event/fotoexkursion-hamburg/
CATEGORIES:Fotokreis-Exkursion
END:VEVENT
BEGIN:VEVENT
DTSTART;TZID=Europe/Paris:20250620T193000
DTEND;TZID=Europe/Paris:20250620T220000
DTSTAMP:20260420T191022
CREATED:20241207T143318Z
LAST-MODIFIED:20241207T143748Z
UID:18558-1750447800-1750456800@www.fotokreis88.de
SUMMARY:Fotokreis-Treffen
DESCRIPTION:
URL:https://www.fotokreis88.de/event/fotokreis-treffen-17/
CATEGORIES:Fotokreis-Treffen
END:VEVENT
END:VCALENDAR